BEGIN:VCALENDAR
VERSION:2.0
PRODID:-//eventon.com NONSGML v1.0//EN
CALSCALE:GREGORIAN
METHOD:PUBLISH
BEGIN:VEVENT
UID:69e6c1e4b6bae
DTSTAMP:20260421T001636Z
DTSTART:20260509T090000Z
DTEND:20260511T160000Z
LOCATION:
SUMMARY:44th COBIS Annual Conference Listen. Learn. Lead
DESCRIPTION:The 44th COBIS Annual Conference returns to London from 9–11 
 May 2026\,  bringing together leaders and educators from across the global 
 British international schools community. This flagship event is the highlig
 ht of the COBIS professional calendar\,  providing a unique opportunity for
  school leaders\,  educators\,  and education partners to connect\,  collab
 orate\, [..]\nhttps://karenardley.com/events/44th-cobis-annual-conference-l
 isten-learn-lead-copy/
URL:https://karenardley.com/events/44th-cobis-annual-conference-listen-learn-lead-copy/
END:VEVENT
END:VCALENDAR